BEGIN:VCALENDAR
VERSION:2.0
PRODID:-//ChamberMaster//Event Calendar 2.0//EN
METHOD:PUBLISH
X-PUBLISHED-TTL:P3D
REFRESH-INTERVAL:P3D
CALSCALE:GREGORIAN
BEGIN:VEVENT
DTSTART:20241026T163000Z
DTEND:20241026T170000Z
X-MICROSOFT-CDO-ALLDAYEVENT:FALSE
SUMMARY:Zombie Fun Run 5K
DESCRIPTION:Can you outrun the zombies? Join us for our Zombie 5K and try to finish without being caught!
X-ALT-DESC;FMTTYPE=text/html:Can you outrun the zombies? Join us for our Zombie 5K and try to finish without being caught!
LOCATION:Don Sjogren Community YMCA
UID:e.2545.5413
SEQUENCE:3
DTSTAMP:20260419T121932Z
URL:https://your.holdregechamber.com/events/details/zombie-fun-run-5k-10-26-2024-5413
END:VEVENT

END:VCALENDAR
