BEGIN:VCALENDAR
VERSION:2.0
PRODID:-//ChamberMaster//Event Calendar 2.0//EN
METHOD:PUBLISH
X-PUBLISHED-TTL:P3D
REFRESH-INTERVAL:P3D
CALSCALE:GREGORIAN
BEGIN:VEVENT
DTSTART:20260331T210000Z
DTEND:20260331T220000Z
X-MICROSOFT-CDO-ALLDAYEVENT:FALSE
SUMMARY:Youth "Duck" Run Club
DESCRIPTION:Empowering Kids\, One lap at a time. Kids will gain confidence by setting and meeting goals in the YMCA Youth Duck Run Club. Register by March 29th 2026.\n\nGrades: K-6TH\n\nTuesday/Thursday\, 4pm-5pm
X-ALT-DESC;FMTTYPE=text/html:Empowering Kids\, One lap at a time. Kids will gain confidence by setting and meeting goals in the YMCA Youth Duck Run Club. Register by March 29th 2026.<br>\nGrades: K-6TH<br>\n<span style="background-color:rgb(255\, 255\, 255)\; color:rgb(51\, 51\, 51)\; font-family:sans-serif\,arial\,verdana\,trebuchet ms\; font-size:13px">Tuesday/Thursday\, 4pm-5pm</span>
LOCATION:Don Sjogren Community YMCA 1415 Broadway ST Holdrege NE 68949
UID:e.2545.6070
SEQUENCE:3
DTSTAMP:20260420T084653Z
URL:https://your.holdregechamber.com/events/details/youth-duck-run-club-6070
END:VEVENT

END:VCALENDAR
