BEGIN:VCALENDAR
VERSION:2.0
PRODID:-//ChamberMaster//Event Calendar 2.0//EN
METHOD:PUBLISH
X-PUBLISHED-TTL:P3D
REFRESH-INTERVAL:P3D
CALSCALE:GREGORIAN
BEGIN:VEVENT
DTSTART:20231209T160000Z
DTEND:20231209T180000Z
X-MICROSOFT-CDO-ALLDAYEVENT:FALSE
SUMMARY:YMCA Santa's Sleigh 5K
DESCRIPTION:Registration details coming soon!
X-ALT-DESC;FMTTYPE=text/html:Registration details coming soon!
LOCATION:Holdrege Sun Theater & Events Center
UID:e.2545.5137
SEQUENCE:3
DTSTAMP:20260420T015957Z
URL:https://your.holdregechamber.com/events/details/ymca-santa-s-sleigh-5k-5137
END:VEVENT

END:VCALENDAR
