BEGIN:VCALENDAR
VERSION:2.0
PRODID:-//ChamberMaster//Event Calendar 2.0//EN
METHOD:PUBLISH
X-PUBLISHED-TTL:P3D
REFRESH-INTERVAL:P3D
CALSCALE:GREGORIAN
BEGIN:VEVENT
DTSTART:20260429T140000Z
DTEND:20260429T220000Z
X-MICROSOFT-CDO-ALLDAYEVENT:FALSE
SUMMARY:Workforce Draft Day at the City Auditorium
DESCRIPTION:We are so excited to announce a new event called Workforce Draft Day!\n\nThis is the first year we're hosting this event\, and we're excited to see what it can become for our students and community. The goal is simple. We want to recognize students who are entering the workforce and give them a moment to be celebrated alongside their employers.\n\nEvent Details:\n\nWednesday\, April 29\n\nHoldrege City Auditorium\n\nTwo sessions to help fit school schedules:\n\n9:00 11:00 AM\n\n3:00 5:00 PM\n\nThe event will be open-house style. Students will check in\, be called up to a signing table with their employer\, sign a letter of intent\, and take photos with family\, teachers\, and their employer. We hope to see you there!
X-ALT-DESC;FMTTYPE=text/html:<div class="xdj266r x14z9mp xat24cr x1lziwak x1vvkbs" style="margin-inline: 0px\; overflow-wrap: break-word\; margin-bottom: 0px\; margin-top: 0px\; font-family: &quot\;Segoe UI Historic&quot\;\, &quot\;Segoe UI&quot\;\, Helvetica\, Arial\, sans-serif\; color: rgb(8\, 8\, 9)\; font-size: 15px\;">We are so excited to announce a new event called Workforce Draft Day!</div>\n\n<div class="x14z9mp xat24cr x1lziwak x1vvkbs xtlvy1s" style="margin-inline: 0px\; overflow-wrap: break-word\; margin-bottom: 0px\; margin-top: 0.5em\; font-family: &quot\;Segoe UI Historic&quot\;\, &quot\;Segoe UI&quot\;\, Helvetica\, Arial\, sans-serif\; color: rgb(8\, 8\, 9)\; font-size: 15px\;">This is the first year we&rsquo\;re hosting this event\, and we&rsquo\;re excited to see what it can become for our students and community. The goal is simple. We want to recognize students who are entering the workforce and give them a moment to be celebrated alongside their employers.</div>\n\n<div class="x14z9mp xat24cr x1lziwak x1vvkbs xtlvy1s" style="margin-inline: 0px\; overflow-wrap: break-word\; margin-bottom: 0px\; margin-top: 0.5em\; font-family: &quot\;Segoe UI Historic&quot\;\, &quot\;Segoe UI&quot\;\, Helvetica\, Arial\, sans-serif\; color: rgb(8\, 8\, 9)\; font-size: 15px\;">Event Details:<br class="html-br" />\nWednesday\, April 29<br class="html-br" />\nHoldrege City Auditorium<br class="html-br" />\nTwo sessions to help fit school schedules:<br class="html-br" />\n9:00&ndash\;11:00 AM<br class="html-br" />\n3:00&ndash\;5:00 PM</div>\n\n<div class="x14z9mp xat24cr x1lziwak x1vvkbs xtlvy1s" style="margin-inline: 0px\; overflow-wrap: break-word\; margin-bottom: 0px\; margin-top: 0.5em\; font-family: &quot\;Segoe UI Historic&quot\;\, &quot\;Segoe UI&quot\;\, Helvetica\, Arial\, sans-serif\; color: rgb(8\, 8\, 9)\; font-size: 15px\;">The event will be open-house style. Students will check in\, be called up to a signing table with their employer\, sign a letter of intent\, and take photos with family\, teachers\, and their employer. We hope to see you there!</div>\n
LOCATION:Holdrege City Auditorium
UID:e.2545.6125
SEQUENCE:3
DTSTAMP:20260424T000306Z
URL:https://your.holdregechamber.com/events/details/workforce-draft-day-at-the-city-auditorium-6125
END:VEVENT

END:VCALENDAR
