BEGIN:VCALENDAR
VERSION:2.0
PRODID:-//ChamberMaster//Event Calendar 2.0//EN
METHOD:PUBLISH
X-PUBLISHED-TTL:P3D
REFRESH-INTERVAL:P3D
CALSCALE:GREGORIAN
BEGIN:VEVENT
DTSTART:20221216T010000Z
DTEND:20221216T030000Z
X-MICROSOFT-CDO-ALLDAYEVENT:FALSE
SUMMARY:Trivia at Lost Way Brewery
DESCRIPTION:Head to Lost Way Brewery for Thursday Night trivia!
X-ALT-DESC;FMTTYPE=text/html:Head to Lost Way Brewery for Thursday Night trivia!
LOCATION:Lost Way Brewery 614 3rd Ave\, Holdrege
UID:e.2545.3771
SEQUENCE:3
DTSTAMP:20260422T083103Z
URL:https://your.holdregechamber.com/events/details/trivia-at-lost-way-brewery-12-22-2022-3771
END:VEVENT

END:VCALENDAR
