BEGIN:VCALENDAR
VERSION:2.0
PRODID:-//ChamberMaster//Event Calendar 2.0//EN
METHOD:PUBLISH
X-PUBLISHED-TTL:P3D
REFRESH-INTERVAL:P3D
CALSCALE:GREGORIAN
BEGIN:VEVENT
DTSTART:20230611T190000Z
DTEND:20230611T200000Z
X-MICROSOFT-CDO-ALLDAYEVENT:FALSE
SUMMARY:Run Club at Lost Way Brewery
DESCRIPTION:https://www.lostwaybrewery.com/event/run-club/
X-ALT-DESC;FMTTYPE=text/html:<a href="https://www.lostwaybrewery.com/event/run-club/">https://www.lostwaybrewery.com/event/run-club/</a>
LOCATION:Lost Way Brewery 614 3rd Ave
UID:e.2545.4747
SEQUENCE:3
DTSTAMP:20260421T035029Z
URL:https://your.holdregechamber.com/events/details/run-club-at-lost-way-brewery-06-11-2023-4747
END:VEVENT

END:VCALENDAR
