BEGIN:VCALENDAR
VERSION:2.0
PRODID:-//ChamberMaster//Event Calendar 2.0//EN
METHOD:PUBLISH
X-PUBLISHED-TTL:P3D
REFRESH-INTERVAL:P3D
CALSCALE:GREGORIAN
BEGIN:VEVENT
DTSTART:20231203T190000Z
DTEND:20231203T230000Z
X-MICROSOFT-CDO-ALLDAYEVENT:FALSE
SUMMARY:Phelps Memorial Health Center Service League - Festival of Trees
DESCRIPTION:Details coming soon!
X-ALT-DESC;FMTTYPE=text/html:Details coming soon!
LOCATION:Nebraska Prairie Museum
UID:e.2545.5132
SEQUENCE:3
DTSTAMP:20260419T211547Z
URL:https://your.holdregechamber.com/events/details/phelps-memorial-health-center-service-league-festival-of-trees-5132
END:VEVENT

END:VCALENDAR
