BEGIN:VCALENDAR
VERSION:2.0
PRODID:-//ChamberMaster//Event Calendar 2.0//EN
METHOD:PUBLISH
X-PUBLISHED-TTL:P3D
REFRESH-INTERVAL:P3D
CALSCALE:GREGORIAN
BEGIN:VEVENT
DTSTART:20240225T013000Z
DTEND:20240225T040000Z
X-MICROSOFT-CDO-ALLDAYEVENT:FALSE
SUMMARY:Manhattan Chamber Players at The Tassel
DESCRIPTION:A chamber music collective of New York-based musicians who share the common aim of performing the greatest works in the chamber repertoire at the highest level.  They will perform Anton n Dvor k's Piano Quintet No. 2 in A major Op. 81\, B. 155 for the first half of the Tassel program\, and the Piano Quintet in F minor\, Op. 34\, by Johannes Brahms for the second half.
X-ALT-DESC;FMTTYPE=text/html:<p><span style="font-size:12px"><span style="color:rgb(73\, 52\, 66)\; font-family:open sans\,helvetica\,arial\,verdana\,sans-serif">A chamber music collective of New York-based musicians who share the common aim of performing the greatest works in the chamber repertoire at the highest level.&nbsp\; They will perform Anton&iacute\;n&nbsp\;Dvor&aacute\;k&rsquo\;s&nbsp\;Piano Quintet No. 2 in A major Op. 81\, B. 155 for the first half of the Tassel program\, and the&nbsp\;Piano Quintet&nbsp\;in F minor\,&nbsp\;Op.&nbsp\;34\, by Johannes&nbsp\;Brahms for the second half.&nbsp\;</span></span></p>\n
LOCATION:The Tassel\, Phelps County Center for the Performing Arts
UID:e.2545.4900
SEQUENCE:3
DTSTAMP:20260425T232602Z
URL:https://your.holdregechamber.com/events/details/manhattan-chamber-players-at-the-tassel-4900
END:VEVENT

END:VCALENDAR
