BEGIN:VCALENDAR
VERSION:2.0
PRODID:-//ChamberMaster//Event Calendar 2.0//EN
METHOD:PUBLISH
X-PUBLISHED-TTL:P3D
REFRESH-INTERVAL:P3D
CALSCALE:GREGORIAN
BEGIN:VEVENT
DTSTART:20231210T003000Z
DTEND:20231210T010000Z
X-MICROSOFT-CDO-ALLDAYEVENT:FALSE
SUMMARY:Light Up the "Y" lighting ceremony
DESCRIPTION:
X-ALT-DESC;FMTTYPE=text/html:
LOCATION:The Don Sjogren Community YMCA 1415 Broadway
UID:e.2545.5140
SEQUENCE:3
DTSTAMP:20260420T015040Z
URL:https://your.holdregechamber.com/events/details/light-up-the-y-lighting-ceremony-5140
END:VEVENT

END:VCALENDAR
