BEGIN:VCALENDAR
VERSION:2.0
PRODID:-//ChamberMaster//Event Calendar 2.0//EN
METHOD:PUBLISH
X-PUBLISHED-TTL:P3D
REFRESH-INTERVAL:P3D
CALSCALE:GREGORIAN
BEGIN:VEVENT
DTSTART:20240914T230000Z
DTEND:20240915T040000Z
X-MICROSOFT-CDO-ALLDAYEVENT:FALSE
SUMMARY:Iron Horse Festival: Logan Mize on the Flyover Country Stage
DESCRIPTION:The Iron Horse Festival's evening concert features Logan Mize\, with performances by Luke Mills\, and Savanna Chestnut! Join us on Saturday\, September 14\, 2024 at 6:00 PM for a night of great music and fun. The event will be held outdoors in downtown Holdrege\, NE\, in front of the Iron Horse Depot building (700 Railroad St) rain or shine. Come ready to dance and sing along with these talented artists. Don't miss out on this exciting evening of live music to cap off a day of arts and music at the Iron Horse Festival! This concert is proudly sponsored by Ag Service Associates in association with Farm Bureau Financial Services - Phil Heinrichs\, Landmark Implement\, and the Nebraska Arts Council.
X-ALT-DESC;FMTTYPE=text/html:The Iron Horse Festival&#39\;s evening concert features Logan Mize\, with performances by Luke Mills\, and Savanna Chestnut! Join us on Saturday\, September 14\, 2024 at 6:00 PM for a night of great music and fun. The event will be held outdoors in downtown Holdrege\, NE\, in front of the Iron Horse Depot building (700 Railroad St) rain or shine. Come ready to dance and sing along with these talented artists. Don&#39\;t miss out on this exciting evening of live music to cap off a day of arts and music at the Iron Horse Festival! This concert is proudly sponsored by Ag Service Associates in association with Farm Bureau Financial Services - Phil Heinrichs\, Landmark Implement\, and the Nebraska Arts Council.
LOCATION:In front of the Iron Horse Depot building (700 Railroad St\, Holdrege\, NE)
UID:e.2545.5352
SEQUENCE:3
DTSTAMP:20260419T181019Z
URL:https://your.holdregechamber.com/events/details/iron-horse-festival-logan-mize-on-the-flyover-country-stage-5352
END:VEVENT

END:VCALENDAR
