BEGIN:VCALENDAR
VERSION:2.0
PRODID:-//ChamberMaster//Event Calendar 2.0//EN
METHOD:PUBLISH
X-PUBLISHED-TTL:P3D
REFRESH-INTERVAL:P3D
CALSCALE:GREGORIAN
BEGIN:VEVENT
DTSTART:20260522T183000Z
DTEND:20260522T183000Z
X-MICROSOFT-CDO-ALLDAYEVENT:FALSE
SUMMARY:Duck Dive Fundraiser
DESCRIPTION:Diving for a Good Cause- You can purchase tickets until Friday\, May 22nd 2026 at 1PM\n\nHow it works: Purchase a raffle ticket to buy a duck at the front desk for a chance to win prizes donated by area business and surrounding communities we serve.\n\n\n\nTickets: 1 for $5\, 6 for $20\, 20 for $50 and 50 for $100. You can call the YMCA to purchase tickets as well 308-995-4050.\n\n\n\nHow to win: Staff will jump in the pool to select the floating ducks with the winning numbers. Winners don't need to be present to win. Proceeds help provide free pool events and purchase lifejackets\, foam swimming aids\, ect.\n\n\n\nParticipants do not need to be present to win. All Ages welcome to participate.
X-ALT-DESC;FMTTYPE=text/html:Diving for a Good Cause- You can purchase tickets until Friday\, May 22nd 2026 at 1PM<br />\n<strong>How it works</strong>: Purchase a raffle ticket to buy a duck at the front desk for a chance to win prizes donated by area business and surrounding communities we serve.<br />\n<br />\n<strong>Tickets:&nbsp\;</strong>1 for $5\, 6 for $20\, 20 for $50 and 50 for $100. You can call the YMCA to purchase tickets as well 308-995-4050.<br />\n<br />\n<strong>How to win:&nbsp\;</strong>Staff will jump in the pool to select the floating ducks with the winning numbers. Winners don&#39\;t need to be present to win. Proceeds help provide free pool events and purchase lifejackets\, foam swimming aids\, ect.<br />\n<br />\n<strong>Participants do not need to be present to win. All Ages welcome to participate</strong>.<br />\n<br />\n&nbsp\;
LOCATION:Don Sjogren Community YMCA 1415 Broadway\, Holdrege
UID:e.2545.6120
SEQUENCE:3
DTSTAMP:20260425T173524Z
URL:https://your.holdregechamber.com/events/details/duck-dive-fundraiser-6120
END:VEVENT

END:VCALENDAR
