BEGIN:VCALENDAR
VERSION:2.0
PRODID:-//ChamberMaster//Event Calendar 2.0//EN
METHOD:PUBLISH
X-PUBLISHED-TTL:P3D
REFRESH-INTERVAL:P3D
CALSCALE:GREGORIAN
BEGIN:VEVENT
DTSTART:20260220T233000Z
DTEND:20260221T023000Z
X-MICROSOFT-CDO-ALLDAYEVENT:FALSE
SUMMARY:Crushed Glass Art Class
DESCRIPTION:Creative Wellness Room\; \n\nFriday February 20th at 5:30 pm. Crushed glass flower class $50 per person. (adults only)\n\nWe are going to make a framed flower picture out of crushed glass. They are beautiful to display and so fun to make. There will be a few different flower designs to choose from.\n\nPlan for about 2 to 3 hours. Class includes all supplies necessary (frame\, crushed glass\, glues\, resin\, gloves\, tapes and tools).\n\nOnly 4 spots available.\n\ncall or text 308-991-3123 to reserve your spot.
X-ALT-DESC;FMTTYPE=text/html:<div>Creative Wellness Room\;&nbsp\;<br />\nFriday February 20th at 5:30 pm. Crushed glass flower class $50 per person. (adults only)</div>\n\n<div>We are going to make a framed flower picture out of crushed glass. They are beautiful to display and so fun to make. There will be a few different flower designs to choose from.</div>\n\n<div>Plan for about 2 to 3 hours. Class includes all supplies necessary (frame\, crushed glass\, glues\, resin\, gloves\, tapes and tools).</div>\n\n<div>Only 4 spots available.</div>\n\n<div>call or text 308-991-3123 to reserve your spot.</div>\n\n<div>&nbsp\;</div>\n\n<div>&nbsp\;</div>\n
LOCATION:Creative Wellness Room\; 609 4th Avenue\, Holdrege
UID:e.2545.6038
SEQUENCE:3
DTSTAMP:20260425T022114Z
URL:https://your.holdregechamber.com/events/details/crushed-glass-art-class-6038
END:VEVENT

END:VCALENDAR
