BEGIN:VCALENDAR
VERSION:2.0
PRODID:-//ChamberMaster//Event Calendar 2.0//EN
METHOD:PUBLISH
X-PUBLISHED-TTL:P3D
REFRESH-INTERVAL:P3D
CALSCALE:GREGORIAN
BEGIN:VEVENT
DTSTART:20240302T140000Z
DTEND:20240302T230000Z
X-MICROSOFT-CDO-ALLDAYEVENT:FALSE
SUMMARY:Crafters' Retreat
DESCRIPTION:Grab your friends and enjoy an interruption-free Saturday to finish your crochet\, knitting\, scrapbooking\, quilting or artistic projects. You will have the space and time to accomplish your projects without the hassle of a long drive and the expense of lodging. Spend the day creating while enjoying and getting inspiration from your fellow crafters. Bring your lunch and any snacks you wish to eat during the day. A refrigerator and microwave will be available\, however\, no vending machines are on site. Saturday\, March 2\, 8 a.m.-5 p.m.
X-ALT-DESC;FMTTYPE=text/html:Grab your friends and enjoy an interruption-free Saturday to finish your crochet\, knitting\, scrapbooking\, quilting or artistic projects. You will have the space and time to accomplish your projects without the hassle of a long drive and the expense of lodging. Spend the day creating while enjoying and getting inspiration from your fellow crafters. Bring your lunch and any snacks you wish to eat during the day. A refrigerator and microwave will be available\, however\, no vending machines are on site. Saturday\, March 2\, 8 a.m.-5 p.m.
LOCATION:Central Community College 1308 2nd St. Holdrege\, NE 68949
UID:e.2545.5213
SEQUENCE:3
DTSTAMP:20260421T063601Z
URL:https://your.holdregechamber.com/events/details/crafters-retreat-5213
END:VEVENT

END:VCALENDAR
