BEGIN:VCALENDAR
VERSION:2.0
PRODID:-//ChamberMaster//Event Calendar 2.0//EN
METHOD:PUBLISH
X-PUBLISHED-TTL:P3D
REFRESH-INTERVAL:P3D
CALSCALE:GREGORIAN
BEGIN:VEVENT
DTSTART:20240306T003000Z
DTEND:20240327T013000Z
X-MICROSOFT-CDO-ALLDAYEVENT:FALSE
SUMMARY:Build a Website\, Sell Your Stuff\, Start a Blog
DESCRIPTION:Learn how to use the world's most popular website builder\, WordPress. You will gain an understanding of domains\, web hosting and WordPress installation. Explore adding and editing posts\, pages\, text and media\, plus the importance of website security. WordPress requires a hosting plan and a domain name\, for which there is a minimal charge\; this cost is in addition to the course fee. Additional information about creating a WordPress account will be emailed to registered students. Instr. Scott McLaughlin. Tuesdays\, March 5-26\, 6:30-8:30 p.m.
X-ALT-DESC;FMTTYPE=text/html:Learn how to use the world&#39\;s most popular website builder\, WordPress. You will gain an understanding of domains\, web hosting and WordPress installation. Explore adding and editing posts\, pages\, text and media\, plus the importance of website security. WordPress requires a hosting plan and a domain name\, for which there is a minimal charge\; this cost is in addition to the course fee. Additional information about creating a WordPress account will be emailed to registered students. Instr. Scott McLaughlin. Tuesdays\, March 5-26\, 6:30-8:30 p.m.
LOCATION:Central Community College 1308 2nd St. Holdrege\, NE 68949
UID:e.2545.5208
SEQUENCE:3
DTSTAMP:20260420T173825Z
URL:https://your.holdregechamber.com/events/details/build-a-website-sell-your-stuff-start-a-blog-5208
END:VEVENT

END:VCALENDAR
