BEGIN:VCALENDAR
VERSION:2.0
PRODID:-//ChamberMaster//Event Calendar 2.0//EN
METHOD:PUBLISH
X-PUBLISHED-TTL:P3D
REFRESH-INTERVAL:P3D
CALSCALE:GREGORIAN
BEGIN:VEVENT
DTSTART:20260424T143000Z
DTEND:20260424T153000Z
X-MICROSOFT-CDO-ALLDAYEVENT:FALSE
SUMMARY:Arbor Day Tree Giveaway
DESCRIPTION:Come out and join us for coffee and conversation at Tri Basin in celebration of Arbor Day! The Holdrege Tree Board\, Tri-Basin NRD and Phelps County Ambassadors will be hosting Coffee and Convos. Tri-Basin will be giving away FREE trees! You won't want to miss it!
X-ALT-DESC;FMTTYPE=text/html:Come out and join us for coffee and conversation at Tri Basin in celebration of Arbor Day! The Holdrege Tree Board\, Tri-Basin NRD and Phelps County Ambassadors will be hosting Coffee and Convos. Tri-Basin will be giving away FREE trees! You won&rsquo\;t want to miss it!
LOCATION:Tri-Basin NRD\, 1723 Burlington Street\, Holdrege\, NE 68949
UID:e.2545.6117
SEQUENCE:3
DTSTAMP:20260422T002451Z
URL:https://your.holdregechamber.com/events/details/arbor-day-tree-giveaway-6117
END:VEVENT

END:VCALENDAR
